BEGIN:VCALENDAR
VERSION:2.0
PRODID:-//jEvents 2.0 for Joomla//EN
CALSCALE:GREGORIAN
METHOD:PUBLISH
BEGIN:VEVENT
UID:605a7d21f9d004e80a2f25780130e725
CATEGORIES:Veranstaltungen
CREATED:20260413T161325
SUMMARY:Wanderfahrt auf der Weser
DESCRIPTION:
DTSTAMP:20260422T092008
DTSTART;VALUE=DATE:20260902
DTEND;VALUE=DATE:20260907
SEQUENCE:0
TRANSP:OPAQUE
END:VEVENT
END:VCALENDAR