BEGIN:VCALENDAR
VERSION:2.0
PRODID:-//jEvents 2.0 for Joomla//EN
CALSCALE:GREGORIAN
METHOD:PUBLISH
BEGIN:VEVENT
UID:182e4d57554d6d1107e47d8ec0d76b54
CATEGORIES:Veranstaltungen
CREATED:20260413T161357
SUMMARY:Herbstwanderfahrt auf dem Main
DESCRIPTION:
DTSTAMP:20260422T091943
DTSTART;VALUE=DATE:20261002
DTEND;VALUE=DATE:20261004
SEQUENCE:0
TRANSP:OPAQUE
END:VEVENT
END:VCALENDAR